View In:
ArcGIS JavaScript
ArcGIS Online Map Viewer
ArcGIS Earth
Service Description: Schematic base image created in illustrator to use as a "base map" for roosevelt traffic calming crowdsource + app. 10/28/19. Created by JAS
Name: Projects/BayAreaProjects_DBO_SJ191928_BaseImage
Description: Schematic base image created in illustrator to use as a "base map" for roosevelt traffic calming crowdsource + app. 10/28/19. Created by JAS
Single Fused Map Cache: false
Extent:
XMin: -126.22600514438685
YMin: 3.4547604897363176
XMax: -122.58103969991075
YMax: 4.419376162857274
Spatial Reference: 4326
(4326)
LatestVCSWkid(0)
Initial Extent:
XMin: -126.22600514438685
YMin: 3.4547604897363176
XMax: -122.58103969991075
YMax: 4.419376162857274
Spatial Reference: 4326
(4326)
LatestVCSWkid(0)
Full Extent:
XMin: -126.22600514438685
YMin: 3.4547604897363176
XMax: -122.58103969991075
YMax: 4.419376162857274
Spatial Reference: 4326
(4326)
LatestVCSWkid(0)
Pixel Size X: 4.082165353876245E-4
Pixel Size Y: 4.082165353876244E-4
Band Count: 3
Pixel Type: U8
RasterFunction Infos: {"rasterFunctionInfos": [{
"name": "None",
"description": "",
"help": ""
}]}
Mensuration Capabilities: Basic
Inspection Capabilities:
Has Histograms: true
Has Colormap: false
Has Multi Dimensions : false
Rendering Rule:
Min Scale: 0
Max Scale: 0
Copyright Text: Fehr & Peers, City of Roosevelt
Service Data Type: esriImageServiceDataTypeRGB
Min Values: 0, 0, 0
Max Values: 255, 255, 255
Mean Values: 232.59561073019404, 234.59468297108705, 235.93292183958525
Standard Deviation Values: 51.99754418569798, 47.404123928878256, 45.66283136334863
Object ID Field:
Fields:
None
Default Mosaic Method: Center
Allowed Mosaic Methods:
SortField:
SortValue: null
Mosaic Operator: First
Default Compression Quality: 75
Default Resampling Method: Bilinear
Max Record Count: null
Max Image Height: 4100
Max Image Width: 15000
Max Download Image Count: null
Max Mosaic Image Count: null
Allow Raster Function: true
Allow Copy: true
Allow Analysis: true
Allow Compute TiePoints: false
Supports Statistics: false
Supports Advanced Queries: false
Use StandardizedQueries: true
Raster Type Infos:
Name: Raster Dataset
Description: Supports all ArcGIS Raster Datasets
Help:
Has Raster Attribute Table: false
Edit Fields Info: null
Ownership Based AccessControl For Rasters: null
Child Resources:
Info
Histograms
Statistics
Key Properties
Legend
Raster Function Infos
Supported Operations:
Export Image
Identify
Measure
Compute Histograms
Compute Statistics Histograms
Get Samples
Compute Class Statistics
Query Boundary
Compute Pixel Location
Compute Angles
Validate
Project